BEGIN:VCALENDAR
VERSION:2.0
PRODID:-//Centre for Applied Research and Innovation in Supply Chain - Africa - ECPv5.7.0//NONSGML v1.0//EN
CALSCALE:GREGORIAN
METHOD:PUBLISH
X-WR-CALNAME:Centre for Applied Research and Innovation in Supply Chain - Africa
X-ORIGINAL-URL:https://carisca.knust.edu.gh
X-WR-CALDESC:Events for Centre for Applied Research and Innovation in Supply Chain - Africa
BEGIN:VTIMEZONE
TZID:UTC
BEGIN:STANDARD
TZOFFSETFROM:+0000
TZOFFSETTO:+0000
TZNAME:UTC
DTSTART:20200101T000000
END:STANDARD
END:VTIMEZONE
BEGIN:VEVENT
DTSTART;TZID=UTC:20201118T140000
DTEND;TZID=UTC:20201118T140000
DTSTAMP:20260425T033633
CREATED:20201103T103939Z
LAST-MODIFIED:20201103T103939Z
UID:11352-1605708000-1605708000@carisca.knust.edu.gh
SUMMARY:Supply Chain Action Laboratory Engagement (SCALE)
DESCRIPTION:CARISCA will hold its maiden Supply Chain Action Laboratory Engagement (SCALE) meeting on 18th November 2020 at 2:00pm. Due to the COVID- 19 pandemic\, this event would be held virtually on Zoom. \n\nCARISCA will leverage SCALE Sessions to engage the Government of Ghana in focused activities on formulating research-based supply and procurement policies that improve and reinforce the Public Procurement Authority’s existing approach. \nSCALE is a mechanism which allows innovative and scalable collaborative projects to strengthen supply chains\, by providing funding and technical assistance to maximize the likelihood of success and widespread uptake. \nSCALE strives to convene; \n\nPractitioners from the private sector\, governments\, and civil society organisations to discuss supply chain challenges and opportunities;\n Researchers from KNUST\, ASU\, and CARISCA affiliates from other higher education institutions\, including faculty\, graduate students\, and selected undergraduate students will provide expertise in helping to solve these problems\nLocal and multinational private companies\, including our private sector and CSO partners that bring access to networks\, technology\, and real-world best practices.
URL:https://carisca.knust.edu.gh/event/supply-chain-action-laboratory-engagement-scale/
ATTACH;FMTTYPE=image/jpeg:https://carisca.knust.edu.gh/wp-content/uploads/2020/08/SCALE-LAB.jpg
ORGANIZER;CN="CARISCA":MAILTO:info@carisca.knust.edu.gh
END:VEVENT
END:VCALENDAR