BEGIN:VCALENDAR
VERSION:2.0
PRODID:-//Centre for Applied Research and Innovation in Supply Chain - Africa - ECPv5.7.0//NONSGML v1.0//EN
CALSCALE:GREGORIAN
METHOD:PUBLISH
X-WR-CALNAME:Centre for Applied Research and Innovation in Supply Chain - Africa
X-ORIGINAL-URL:https://carisca.knust.edu.gh
X-WR-CALDESC:Events for Centre for Applied Research and Innovation in Supply Chain - Africa
BEGIN:VTIMEZONE
TZID:UTC
BEGIN:STANDARD
TZOFFSETFROM:+0000
TZOFFSETTO:+0000
TZNAME:UTC
DTSTART:20250101T000000
END:STANDARD
END:VTIMEZONE
BEGIN:VEVENT
DTSTART;TZID=UTC:20251120T140000
DTEND;TZID=UTC:20251120T170000
DTSTAMP:20260421T210840
CREATED:20251023T114433Z
LAST-MODIFIED:20251027T172846Z
UID:18974-1763647200-1763658000@carisca.knust.edu.gh
SUMMARY:Continuing Professional Development - Introduction to Supply Chain Analytics
DESCRIPTION:CARISCA CPDs Are Back!\nCARISCA is excited to announce the return of our Continuing Professional Development (CPD) courses! \nTo kick things off\, we’re introducing two free introductory sessions open to all our stakeholders and the public. These sessions are designed to build foundational knowledge in key areas of supply chain management and prepare participants for future in-depth CPD offerings. \nIntroduction to Supply Chain Analytics\nDate: November 20\, 2025Time: 2–5 p.m. GMTMode: Online via ZoomRegister: bit.ly/CARISCACPDs \nAs supply chains become more data-driven\, analytics skills are essential for informed decision-making. This course introduces participants to the fundamentals of Supply Chain Analytics from data collection to analysis for operational and strategic improvement. \nFacilitator\nDr. John Serbe MarfoSenior Lecturer\, KNUST School of Business \nDr John Serbe Marfo is a Senior Lecturer at the Department of Supply Chain and Information Systems at the KNUST School of Business. He has a PhD in Information Systems. He is a researcher and a consultant in supply chain digitalization\, information systems\, health informatics\, big data analytics and eLearning. His recent research work in supply chain digitalization focuses on the use of drone technology as a logistics tool to improve health care delivery and supply chains. \nLearn more about our other CPD course\, Introduction to Reverse Logistics
URL:https://carisca.knust.edu.gh/event/continuing-professional-development-introductory-courses/
ATTACH;FMTTYPE=image/jpeg:https://carisca.knust.edu.gh/wp-content/uploads/2025/10/supply-chain-analytics.jpg
END:VEVENT
END:VCALENDAR