BEGIN:VCALENDAR
VERSION:2.0
PRODID:-//Centre for Applied Research and Innovation in Supply Chain - Africa - ECPv5.7.0//NONSGML v1.0//EN
CALSCALE:GREGORIAN
METHOD:PUBLISH
X-WR-CALNAME:Centre for Applied Research and Innovation in Supply Chain - Africa
X-ORIGINAL-URL:https://carisca.knust.edu.gh
X-WR-CALDESC:Events for Centre for Applied Research and Innovation in Supply Chain - Africa
BEGIN:VTIMEZONE
TZID:UTC
BEGIN:STANDARD
TZOFFSETFROM:+0000
TZOFFSETTO:+0000
TZNAME:UTC
DTSTART:20250101T000000
END:STANDARD
END:VTIMEZONE
BEGIN:VEVENT
DTSTART;VALUE=DATE:20250730
DTEND;VALUE=DATE:20250801
DTSTAMP:20260423T053610
CREATED:20250326T203734Z
LAST-MODIFIED:20250326T203803Z
UID:18608-1753833600-1754006399@carisca.knust.edu.gh
SUMMARY:Second annual Supply Chain Business Forum and Exhibition
DESCRIPTION:Business leaders and supply chain experts will gather July 30-31\,2025\, at the Ghana College of Physicians and Surgeons\, Accra\, for CARISCA’s second annual Supply Chain Business Forum and Exhibition. Over the two days\, keynote speakers and panelists will lead discussions on the theme “Fueling Africa’s Growth: Supply Chain Innovation and Financing.” \nThe goal of the forum is to enhance supply chain management practices across the continent. The event is targeted to business and industry leaders and academics with strong business ties or who conduct applied research that can enhance supply chain management practices in Africa. \nThe inaugural event\, held in July\, attracted nearly 280 participants from six countries. Among attendees who completed a post-event survey\, 94% said they would return next year. \nThe Business Forum will feature prominent entrepreneurs\, business executives and academics as keynote speakers\, panelists and session leaders. The event also will offer ample time for networking and exploring the exhibition space\, where leading companies will showcase their products and services. \nAttendees will gain abundant opportunities to learn about and discuss the best supply chain practices throughout Africa and how leading-edge university research can support African businesses. \nRegistration\nEarly-bird pricing for the 2025 Business Forum and Exhibition is available until April 30. Groups of five or more from the same company can receive a discount on registration. Seats are limited\, and we expect the event to sell out quickly. \nRegistration is limited to in-person attendees. While most CARISCA events are hybrid\, the Business Forum is an exception so that participants and sponsors gain full advantage from the exhibition space and networking opportunities. \nTo register for the event or learn more about becoming a sponsor or exhibitor\, visit cariscabusinessforum.com.
URL:https://carisca.knust.edu.gh/event/second-annual-supply-chain-business-forum-and-exhibition/
LOCATION:Ghana College of Physicians and Surgeons\, Accra\, Ghana
ATTACH;FMTTYPE=image/png:https://carisca.knust.edu.gh/wp-content/uploads/2025/03/Business-Forum-2.png
END:VEVENT
END:VCALENDAR