BEGIN:VCALENDAR
VERSION:2.0
PRODID:-//Centre for Applied Research and Innovation in Supply Chain - Africa - ECPv5.7.0//NONSGML v1.0//EN
CALSCALE:GREGORIAN
METHOD:PUBLISH
X-WR-CALNAME:Centre for Applied Research and Innovation in Supply Chain - Africa
X-ORIGINAL-URL:https://carisca.knust.edu.gh
X-WR-CALDESC:Events for Centre for Applied Research and Innovation in Supply Chain - Africa
BEGIN:VTIMEZONE
TZID:UTC
BEGIN:STANDARD
TZOFFSETFROM:+0000
TZOFFSETTO:+0000
TZNAME:UTC
DTSTART:20200101T000000
END:STANDARD
END:VTIMEZONE
BEGIN:VEVENT
DTSTART;TZID=UTC:20201015T130000
DTEND;TZID=UTC:20201015T160000
DTSTAMP:20260419T203745
CREATED:20201014T155229Z
LAST-MODIFIED:20201014T155229Z
UID:11163-1602766800-1602777600@carisca.knust.edu.gh
SUMMARY:Stakeholder Meeting with Pharmaceutical Importers and Wholesalers Association\, Ghana.
DESCRIPTION:CARISCA will hold a stakeholder meeting with the Pharmaceutical Importers and Wholesalers Association\, Ghana  (PIWA) on 15th October 2020 at Alisa Hotel ( Swiss Spirit Hotel)\, Accra.The meeting will discuss how CARISCA and PIWA can collaborate to improve health supply chains in Ghana. \n\n\n	Related
URL:https://carisca.knust.edu.gh/event/stakeholder-meeting-with-pharmaceutical-importers-and-wholesalers-association-ghana/
LOCATION:Alisa Hotel (Swiss Spirit Hotel)\, Accra\, Ghana
ATTACH;FMTTYPE=image/jpeg:https://carisca.knust.edu.gh/wp-content/uploads/2020/09/piwa.jpg
END:VEVENT
END:VCALENDAR